BEGIN:VCALENDAR
VERSION:2.0
PRODID:-//eventon.com NONSGML v1.0//EN
CALSCALE:GREGORIAN
METHOD:PUBLISH
BEGIN:VEVENT
UID:69e8adde2423c
DTSTAMP:20260422T111542Z
DTSTART:20231221T093000Z
DTEND:20231221T235000Z
LOCATION:
SUMMARY:Plenarsitzung
DESCRIPTION:Plenarsitzung\nhttps://rivoir.eu/events/plenarsitzung-166/
URL:https://rivoir.eu/events/plenarsitzung-166/
END:VEVENT
END:VCALENDAR