BEGIN:VCALENDAR
VERSION:2.0
PRODID:-//eventon.com NONSGML v1.0//EN
CALSCALE:GREGORIAN
METHOD:PUBLISH
BEGIN:VEVENT
UID:69e89e232980b
DTSTAMP:20260422T100835Z
DTSTART:20240219T173000Z
DTEND:20240219T235000Z
LOCATION:
SUMMARY:Fraktionsitzung
DESCRIPTION:Fraktionsitzung\nhttps://rivoir.eu/events/fraktionsitzung-41/
URL:https://rivoir.eu/events/fraktionsitzung-41/
END:VEVENT
END:VCALENDAR