BEGIN:VCALENDAR
VERSION:2.0
PRODID:-//eventon.com NONSGML v1.0//EN
CALSCALE:GREGORIAN
METHOD:PUBLISH
BEGIN:VEVENT
UID:69e89ff1c368a
DTSTAMP:20260422T101617Z
DTSTART:20240307T093000Z
DTEND:20240307T235000Z
LOCATION:
SUMMARY:Plenarsitzung
DESCRIPTION:Plenarsitzung\nhttps://rivoir.eu/events/plenarsitzung-172/
URL:https://rivoir.eu/events/plenarsitzung-172/
END:VEVENT
END:VCALENDAR