BEGIN:VCALENDAR
VERSION:2.0
PRODID:-//eventon.com NONSGML v1.0//EN
CALSCALE:GREGORIAN
METHOD:PUBLISH
BEGIN:VEVENT
UID:69e89d454718d
DTSTAMP:20260422T100453Z
DTSTART:20240314T100000Z
DTEND:20240314T235000Z
LOCATION:
SUMMARY:Arbeitskreis Finanzen
DESCRIPTION:Arbeitskreis Finanzen\nhttps://rivoir.eu/events/arbeitskreis-fi
 nanzen-14/
URL:https://rivoir.eu/events/arbeitskreis-finanzen-14/
END:VEVENT
END:VCALENDAR