BEGIN:VCALENDAR
VERSION:2.0
PRODID:-//eventon.com NONSGML v1.0//EN
CALSCALE:GREGORIAN
METHOD:PUBLISH
BEGIN:VEVENT
UID:69e8b4a5d5e94
DTSTAMP:20260422T114437Z
DTSTART:20240415T173000Z
DTEND:20240415T235000Z
LOCATION:
SUMMARY:Fraktionssitzung
DESCRIPTION:Fraktionssitzung\nhttps://rivoir.eu/events/fraktionssitzung-330
 /
URL:https://rivoir.eu/events/fraktionssitzung-330/
END:VEVENT
END:VCALENDAR