BEGIN:VCALENDAR
VERSION:2.0
PRODID:-//eventon.com NONSGML v1.0//EN
CALSCALE:GREGORIAN
METHOD:PUBLISH
BEGIN:VEVENT
UID:69e89dc271125
DTSTAMP:20260422T100658Z
DTSTART:20240415T190000Z
DTEND:20240415T235000Z
LOCATION:
SUMMARY:Mehr G9 - Jetzt
DESCRIPTION:Mehr G9 - Jetzt\nhttps://rivoir.eu/events/mehr-g9-jetzt/
URL:https://rivoir.eu/events/mehr-g9-jetzt/
END:VEVENT
END:VCALENDAR