BEGIN:VCALENDAR
VERSION:2.0
PRODID:-//eventon.com NONSGML v1.0//EN
CALSCALE:GREGORIAN
METHOD:PUBLISH
BEGIN:VEVENT
UID:69e638e63a843
DTSTAMP:20260420T143206Z
DTSTART:20240418T190000Z
DTEND:20240418T235000Z
LOCATION:
SUMMARY:Veranstaltung OV Blaustein
DESCRIPTION:Veranstaltung OV Blaustein\nhttps://rivoir.eu/events/veranstalt
 ung-ov-blaustein/
URL:https://rivoir.eu/events/veranstaltung-ov-blaustein/
END:VEVENT
END:VCALENDAR