BEGIN:VCALENDAR
VERSION:2.0
PRODID:-//eventon.com NONSGML v1.0//EN
CALSCALE:GREGORIAN
METHOD:PUBLISH
BEGIN:VEVENT
UID:69e89d473c992
DTSTAMP:20260422T100455Z
DTSTART:20240510T090000Z
DTEND:20240510T235000Z
LOCATION:
SUMMARY:Vor-Ort-Termin/online Gespräch
DESCRIPTION:Vor-Ort-Termin/online Gespräch\nhttps://rivoir.eu/events/vor-o
 rt-termin-online-gespraech-204/
URL:https://rivoir.eu/events/vor-ort-termin-online-gespraech-204/
END:VEVENT
END:VCALENDAR