BEGIN:VCALENDAR
VERSION:2.0
PRODID:-//eventon.com NONSGML v1.0//EN
CALSCALE:GREGORIAN
METHOD:PUBLISH
BEGIN:VEVENT
UID:69e8a1de860bc
DTSTAMP:20260422T102430Z
DTSTART:20240514T190000Z
DTEND:20240514T235000Z
LOCATION:
SUMMARY:Bürgergespräch Erbach in Europa
DESCRIPTION:Bürgergespräch Erbach in Europa\nhttps://rivoir.eu/events/bue
 rgergespraech-erbach-in-europa/
URL:https://rivoir.eu/events/buergergespraech-erbach-in-europa/
END:VEVENT
END:VCALENDAR