BEGIN:VCALENDAR
VERSION:2.0
PRODID:-//eventon.com NONSGML v1.0//EN
CALSCALE:GREGORIAN
METHOD:PUBLISH
BEGIN:VEVENT
UID:69e6365be9b61
DTSTAMP:20260420T142115Z
DTSTART:20240515T100000Z
DTEND:20240515T235000Z
LOCATION:
SUMMARY:Plenarsitzung
DESCRIPTION:Plenarsitzung\nhttps://rivoir.eu/events/plenarsitzung-176/
URL:https://rivoir.eu/events/plenarsitzung-176/
END:VEVENT
END:VCALENDAR