BEGIN:VCALENDAR
VERSION:2.0
PRODID:-//eventon.com NONSGML v1.0//EN
CALSCALE:GREGORIAN
METHOD:PUBLISH
BEGIN:VEVENT
UID:69e89e0dcb37e
DTSTAMP:20260422T100813Z
DTSTART:20240603T173000Z
DTEND:20240603T235000Z
LOCATION:
SUMMARY:Fraktionssitzung
DESCRIPTION:Fraktionssitzung\nhttps://rivoir.eu/events/fraktionssitzung-339
 /
URL:https://rivoir.eu/events/fraktionssitzung-339/
END:VEVENT
END:VCALENDAR