BEGIN:VCALENDAR
VERSION:2.0
PRODID:-//eventon.com NONSGML v1.0//EN
CALSCALE:GREGORIAN
METHOD:PUBLISH
BEGIN:VEVENT
UID:69e89ff6c5c1e
DTSTAMP:20260422T101622Z
DTSTART:20240925T090000Z
DTEND:20240925T235000Z
LOCATION:
SUMMARY:Plenarsitzung
DESCRIPTION:Plenarsitzung\nhttps://rivoir.eu/events/plenarsitzung-184/
URL:https://rivoir.eu/events/plenarsitzung-184/
END:VEVENT
END:VCALENDAR