BEGIN:VCALENDAR
VERSION:2.0
PRODID:-//eventon.com NONSGML v1.0//EN
CALSCALE:GREGORIAN
METHOD:PUBLISH
BEGIN:VEVENT
UID:69e8b07245a7a
DTSTAMP:20260422T112642Z
DTSTART:20241015T140000Z
DTEND:20241015T235000Z
LOCATION:
SUMMARY:Fraktionssitzung
DESCRIPTION:Fraktionssitzung\nhttps://rivoir.eu/events/fraktionssitzung-358
 /
URL:https://rivoir.eu/events/fraktionssitzung-358/
END:VEVENT
END:VCALENDAR