BEGIN:VCALENDAR
VERSION:2.0
PRODID:-//eventon.com NONSGML v1.0//EN
CALSCALE:GREGORIAN
METHOD:PUBLISH
BEGIN:VEVENT
UID:69e8a268222e7
DTSTAMP:20260422T102648Z
DTSTART:20241107T093000Z
DTEND:20241107T235000Z
LOCATION:
SUMMARY:Plenarsitzung
DESCRIPTION:Plenarsitzung\nhttps://rivoir.eu/events/plenarsitzung-189/
URL:https://rivoir.eu/events/plenarsitzung-189/
END:VEVENT
END:VCALENDAR