BEGIN:VCALENDAR
VERSION:2.0
PRODID:-//eventon.com NONSGML v1.0//EN
CALSCALE:GREGORIAN
METHOD:PUBLISH
BEGIN:VEVENT
UID:69e89d4942a8b
DTSTAMP:20260422T100457Z
DTSTART:20241114T100000Z
DTEND:20241114T235000Z
LOCATION:
SUMMARY:Finanzauschuss
DESCRIPTION:Finanzauschuss\nhttps://rivoir.eu/events/finanzauschuss-2/
URL:https://rivoir.eu/events/finanzauschuss-2/
END:VEVENT
END:VCALENDAR