BEGIN:VCALENDAR
VERSION:2.0
PRODID:-//eventon.com NONSGML v1.0//EN
CALSCALE:GREGORIAN
METHOD:PUBLISH
BEGIN:VEVENT
UID:69e89dbad2ef1
DTSTAMP:20260422T100650Z
DTSTART:20241212T093000Z
DTEND:20241212T235000Z
LOCATION:
SUMMARY:Plenarsitzung
DESCRIPTION:Plenarsitzung\nhttps://rivoir.eu/events/plenarsitzung-191/
URL:https://rivoir.eu/events/plenarsitzung-191/
END:VEVENT
END:VCALENDAR