BEGIN:VCALENDAR
VERSION:2.0
PRODID:-//eventon.com NONSGML v1.0//EN
CALSCALE:GREGORIAN
METHOD:PUBLISH
BEGIN:VEVENT
UID:69e63349dcfaa
DTSTAMP:20260420T140809Z
DTSTART:20250109T083000Z
DTEND:20250109T235000Z
LOCATION:
SUMMARY:Fraktionsklausur
DESCRIPTION:Fraktionsklausur\nhttps://rivoir.eu/events/fraktionsklausur-33/
URL:https://rivoir.eu/events/fraktionsklausur-33/
END:VEVENT
END:VCALENDAR