BEGIN:VCALENDAR
VERSION:2.0
PRODID:-//eventon.com NONSGML v1.0//EN
CALSCALE:GREGORIAN
METHOD:PUBLISH
BEGIN:VEVENT
UID:69e89db9dabc4
DTSTAMP:20260422T100649Z
DTSTART:20250127T173000Z
DTEND:20250127T235000Z
LOCATION:
SUMMARY:Fraktionssitzung
DESCRIPTION:Fraktionssitzung\nhttps://rivoir.eu/events/fraktionssitzung-376
 /
URL:https://rivoir.eu/events/fraktionssitzung-376/
END:VEVENT
END:VCALENDAR