BEGIN:VCALENDAR
VERSION:2.0
PRODID:-//eventon.com NONSGML v1.0//EN
CALSCALE:GREGORIAN
METHOD:PUBLISH
BEGIN:VEVENT
UID:69e89d7998dec
DTSTAMP:20260422T100545Z
DTSTART:20250321T100000Z
DTEND:20250321T235000Z
LOCATION:
SUMMARY:VR Staatstheater
DESCRIPTION:VR Staatstheater\nhttps://rivoir.eu/events/vr-staatstheater-2/
URL:https://rivoir.eu/events/vr-staatstheater-2/
END:VEVENT
END:VCALENDAR