BEGIN:VCALENDAR
VERSION:2.0
PRODID:-//eventon.com NONSGML v1.0//EN
CALSCALE:GREGORIAN
METHOD:PUBLISH
BEGIN:VEVENT
UID:69e8a24a134e2
DTSTAMP:20260422T102618Z
DTSTART:20250327T100000Z
DTEND:20250327T235000Z
LOCATION:
SUMMARY:Vor-Ort-Termin
DESCRIPTION:Vor-Ort-Termin\nhttps://rivoir.eu/events/vor-ort-termin-40/
URL:https://rivoir.eu/events/vor-ort-termin-40/
END:VEVENT
END:VCALENDAR