BEGIN:VCALENDAR
VERSION:2.0
PRODID:-//eventon.com NONSGML v1.0//EN
CALSCALE:GREGORIAN
METHOD:PUBLISH
BEGIN:VEVENT
UID:69e89d4c6a707
DTSTAMP:20260422T100500Z
DTSTART:20250425T090000Z
DTEND:20250425T235000Z
LOCATION:
SUMMARY:Vor-Ort-Termin
DESCRIPTION:Vor-Ort-Termin\nhttps://rivoir.eu/events/vor-ort-termin-52/
URL:https://rivoir.eu/events/vor-ort-termin-52/
END:VEVENT
END:VCALENDAR