BEGIN:VCALENDAR
VERSION:2.0
PRODID:-//eventon.com NONSGML v1.0//EN
CALSCALE:GREGORIAN
METHOD:PUBLISH
BEGIN:VEVENT
UID:69e9158ceb5be
DTSTAMP:20260422T183804Z
DTSTART:20250508T100000Z
DTEND:20250508T235000Z
LOCATION:
SUMMARY:Arbeitskreis Finanzen
DESCRIPTION:Arbeitskreis Finanzen\nhttps://rivoir.eu/events/arbeitskreis-fi
 nanzen-27/
URL:https://rivoir.eu/events/arbeitskreis-finanzen-27/
END:VEVENT
END:VCALENDAR