BEGIN:VCALENDAR
VERSION:2.0
PRODID:-//eventon.com NONSGML v1.0//EN
CALSCALE:GREGORIAN
METHOD:PUBLISH
BEGIN:VEVENT
UID:69e89d4cb2c84
DTSTAMP:20260422T100500Z
DTSTART:20250522T093000Z
DTEND:20250522T235000Z
LOCATION:
SUMMARY:Plenarsitzung
DESCRIPTION:Plenarsitzung\nhttps://rivoir.eu/events/plenarsitzung-205/
URL:https://rivoir.eu/events/plenarsitzung-205/
END:VEVENT
END:VCALENDAR