BEGIN:VCALENDAR
VERSION:2.0
PRODID:-//eventon.com NONSGML v1.0//EN
CALSCALE:GREGORIAN
METHOD:PUBLISH
BEGIN:VEVENT
UID:69e8a82b1ad05
DTSTAMP:20260422T105123Z
DTSTART:20250523T090000Z
DTEND:20250523T235000Z
LOCATION:
SUMMARY:GR-Klausur
DESCRIPTION:GR-Klausur\nhttps://rivoir.eu/events/gr-klausur-2/
URL:https://rivoir.eu/events/gr-klausur-2/
END:VEVENT
END:VCALENDAR