BEGIN:VCALENDAR
VERSION:2.0
PRODID:-//eventon.com NONSGML v1.0//EN
CALSCALE:GREGORIAN
METHOD:PUBLISH
BEGIN:VEVENT
UID:69e89d4ed298b
DTSTAMP:20260422T100502Z
DTSTART:20250525T110000Z
DTEND:20250525T235000Z
LOCATION:
SUMMARY:Zelt-Matinée
DESCRIPTION:Zelt-Matinée\nhttps://rivoir.eu/events/zelt-matinee/
URL:https://rivoir.eu/events/zelt-matinee/
END:VEVENT
END:VCALENDAR