BEGIN:VCALENDAR
VERSION:2.0
PRODID:-//eventon.com NONSGML v1.0//EN
CALSCALE:GREGORIAN
METHOD:PUBLISH
BEGIN:VEVENT
UID:69e89d4fe675a
DTSTAMP:20260422T100503Z
DTSTART:20250601T130000Z
DTEND:20250601T235000Z
LOCATION:
SUMMARY:Deutsches Musikfest
DESCRIPTION:Deutsches Musikfest\nhttps://rivoir.eu/events/deutsches-musikfe
 st-2/
URL:https://rivoir.eu/events/deutsches-musikfest-2/
END:VEVENT
END:VCALENDAR