BEGIN:VCALENDAR
VERSION:2.0
PRODID:-//eventon.com NONSGML v1.0//EN
CALSCALE:GREGORIAN
METHOD:PUBLISH
BEGIN:VEVENT
UID:69e89d4f80505
DTSTAMP:20260422T100503Z
DTSTART:20250921T100000Z
DTEND:20250921T235000Z
LOCATION:
SUMMARY:Amtseinsetzung Münsterpfarrer
DESCRIPTION:Amtseinsetzung Münsterpfarrer\nhttps://rivoir.eu/events/amtsei
 nsetzung-muensterpfarrer/
URL:https://rivoir.eu/events/amtseinsetzung-muensterpfarrer/
END:VEVENT
END:VCALENDAR