BEGIN:VCALENDAR
VERSION:2.0
PRODID:-//eventon.com NONSGML v1.0//EN
CALSCALE:GREGORIAN
METHOD:PUBLISH
BEGIN:VEVENT
UID:69e89d46b7413
DTSTAMP:20260422T100454Z
DTSTART:20250911T180000Z
DTEND:20250911T235000Z
LOCATION:
SUMMARY:Jubiläum Gemeinde Dornstadt
DESCRIPTION:Jubiläum Gemeinde Dornstadt\nhttps://rivoir.eu/events/jubilaeu
 m-gemeinde-dornstadt/
URL:https://rivoir.eu/events/jubilaeum-gemeinde-dornstadt/
END:VEVENT
END:VCALENDAR