BEGIN:VCALENDAR
VERSION:2.0
PRODID:-//eventon.com NONSGML v1.0//EN
CALSCALE:GREGORIAN
METHOD:PUBLISH
BEGIN:VEVENT
UID:69e89d4f58784
DTSTAMP:20260422T100503Z
DTSTART:20251015T100000Z
DTEND:20251015T235000Z
LOCATION:
SUMMARY:Plenarsitzung
DESCRIPTION:Plenarsitzung\nhttps://rivoir.eu/events/plenarsitzung-212/
URL:https://rivoir.eu/events/plenarsitzung-212/
END:VEVENT
END:VCALENDAR