BEGIN:VCALENDAR
VERSION:2.0
PRODID:-//eventon.com NONSGML v1.0//EN
CALSCALE:GREGORIAN
METHOD:PUBLISH
BEGIN:VEVENT
UID:69e89d79e3fa4
DTSTAMP:20260422T100545Z
DTSTART:20251016T093000Z
DTEND:20251016T235000Z
LOCATION:
SUMMARY:Plenarsitzung
DESCRIPTION:Plenarsitzung\nhttps://rivoir.eu/events/plenarsitzung-213/
URL:https://rivoir.eu/events/plenarsitzung-213/
END:VEVENT
END:VCALENDAR