BEGIN:VCALENDAR
VERSION:2.0
PRODID:-//eventon.com NONSGML v1.0//EN
CALSCALE:GREGORIAN
METHOD:PUBLISH
BEGIN:VEVENT
UID:69e89d4f1a318
DTSTAMP:20260422T100503Z
DTSTART:20251202T140000Z
DTEND:20251202T235000Z
LOCATION:
SUMMARY:Fraktionssitzung
DESCRIPTION:Fraktionssitzung\nhttps://rivoir.eu/events/fraktionssitzung-423
 /
URL:https://rivoir.eu/events/fraktionssitzung-423/
END:VEVENT
END:VCALENDAR