BEGIN:VCALENDAR
VERSION:2.0
PRODID:-//eventon.com NONSGML v1.0//EN
CALSCALE:GREGORIAN
METHOD:PUBLISH
BEGIN:VEVENT
UID:69e8b071bb787
DTSTAMP:20260422T112641Z
DTSTART:20260121T093000Z
DTEND:20260121T235000Z
LOCATION:
SUMMARY:Arbeitskreis Wissenschaft
DESCRIPTION:Arbeitskreis Wissenschaft\nhttps://rivoir.eu/events/arbeitskrei
 s-wissenschaft-43/
URL:https://rivoir.eu/events/arbeitskreis-wissenschaft-43/
END:VEVENT
END:VCALENDAR