BEGIN:VCALENDAR
VERSION:2.0
PRODID:-//eventon.com NONSGML v1.0//EN
CALSCALE:GREGORIAN
METHOD:PUBLISH
BEGIN:VEVENT
UID:69e89d78db939
DTSTAMP:20260422T100544Z
DTSTART:20260204T100000Z
DTEND:20260204T235000Z
LOCATION:
SUMMARY:Plenarsitzung
DESCRIPTION:Plenarsitzung\nhttps://rivoir.eu/events/plenarsitzung-222/
URL:https://rivoir.eu/events/plenarsitzung-222/
END:VEVENT
END:VCALENDAR